BEGIN:VCALENDAR
VERSION:2.0
PRODID:-//WHAM - ECPv6.15.20//NONSGML v1.0//EN
CALSCALE:GREGORIAN
METHOD:PUBLISH
X-ORIGINAL-URL:https://whamohio.com
X-WR-CALDESC:Events for WHAM
REFRESH-INTERVAL;VALUE=DURATION:PT1H
X-Robots-Tag:noindex
X-PUBLISHED-TTL:PT1H
BEGIN:VTIMEZONE
TZID:America/New_York
BEGIN:DAYLIGHT
TZOFFSETFROM:-0500
TZOFFSETTO:-0400
TZNAME:EDT
DTSTART:20250309T070000
END:DAYLIGHT
BEGIN:STANDARD
TZOFFSETFROM:-0400
TZOFFSETTO:-0500
TZNAME:EST
DTSTART:20251102T060000
END:STANDARD
BEGIN:DAYLIGHT
TZOFFSETFROM:-0500
TZOFFSETTO:-0400
TZNAME:EDT
DTSTART:20260308T070000
END:DAYLIGHT
BEGIN:STANDARD
TZOFFSETFROM:-0400
TZOFFSETTO:-0500
TZNAME:EST
DTSTART:20261101T060000
END:STANDARD
BEGIN:DAYLIGHT
TZOFFSETFROM:-0500
TZOFFSETTO:-0400
TZNAME:EDT
DTSTART:20270314T070000
END:DAYLIGHT
BEGIN:STANDARD
TZOFFSETFROM:-0400
TZOFFSETTO:-0500
TZNAME:EST
DTSTART:20271107T060000
END:STANDARD
END:VTIMEZONE
BEGIN:VEVENT
DTSTART;TZID=America/New_York:20260124T090000
DTEND;TZID=America/New_York:20260124T103000
DTSTAMP:20260425T113548
CREATED:20260112T015030Z
LAST-MODIFIED:20260112T015030Z
UID:2562-1769245200-1769250600@whamohio.com
SUMMARY:MCFAN Meeting
DESCRIPTION:
URL:https://whamohio.com/event/mcfan-meeting/
LOCATION:Thirsty Cowboys\, 2743 Medina Rd\,\, OH\, Medina\, Ohio\, 44256\, United States
ATTACH;FMTTYPE=image/png:https://whamohio.com/wp-content/uploads/2026/01/image_2026-01-11_205008908.png
ORGANIZER;CN="MCFAN - Medina County Friends and Neighbors":MAILTO:lisawoods@mcfan.org
END:VEVENT
BEGIN:VEVENT
DTSTART;TZID=America/New_York:20260521T173000
DTEND;TZID=America/New_York:20260521T200000
DTSTAMP:20260425T113548
CREATED:20260117T184128Z
LAST-MODIFIED:20260117T184128Z
UID:2599-1779384600-1779393600@whamohio.com
SUMMARY:Wayne County Republican Women Meeting
DESCRIPTION:Kristina Roegner\, Ohio State Senator 27th District
URL:https://whamohio.com/event/wayne-county-republican-women-meeting-3/
LOCATION:Wooster Country Club\, 1251 Oak Hill Rd\, Wooster\, OH\, 44691\, United States
ATTACH;FMTTYPE=image/png:https://whamohio.com/wp-content/uploads/2026/01/307715893_125018150323387_4771765628514782187_n.png
END:VEVENT
BEGIN:VEVENT
DTSTART;TZID=America/New_York:20260124T090000
DTEND;TZID=America/New_York:20260124T103000
DTSTAMP:20260425T113548
CREATED:20260112T015030Z
LAST-MODIFIED:20260112T015030Z
UID:2562-1769245200-1769250600@whamohio.com
SUMMARY:MCFAN Meeting
DESCRIPTION:
URL:https://whamohio.com/event/mcfan-meeting/
LOCATION:Thirsty Cowboys\, 2743 Medina Rd\,\, OH\, Medina\, Ohio\, 44256\, United States
ATTACH;FMTTYPE=image/png:https://whamohio.com/wp-content/uploads/2026/01/image_2026-01-11_205008908.png
ORGANIZER;CN="MCFAN - Medina County Friends and Neighbors":MAILTO:lisawoods@mcfan.org
END:VEVENT
BEGIN:VEVENT
DTSTART;TZID=America/New_York:20260523T110000
DTEND;TZID=America/New_York:20260523T140000
DTSTAMP:20260425T113548
CREATED:20260311T021344Z
LAST-MODIFIED:20260311T021344Z
UID:2968-1779534000-1779544800@whamohio.com
SUMMARY:Speaker William J. Federer Comes To Courtland
DESCRIPTION:William J. Federer is a nationally known speaker\, Christian historian\, best-selling author\, and president of Amerisearch\, Inc.\, a publishing company dedicated to researching America’s noble heritage. Bill’s AMERICAN MINUTE radio feature is broadcast daily across America and by the Internet.
URL:https://whamohio.com/event/speaker-william-j-federer-comes-to-courtland/
LOCATION:Jericho Center\, 2878 Warren-Meadville Road\, Cortland\, OH\, 44410\, United States
ATTACH;FMTTYPE=image/jpeg:https://whamohio.com/wp-content/uploads/2026/03/649169551_918054270943523_7635722366934858321_n.jpg
END:VEVENT
BEGIN:VEVENT
DTSTART;TZID=America/New_York:20260124T090000
DTEND;TZID=America/New_York:20260124T103000
DTSTAMP:20260425T113548
CREATED:20260112T015030Z
LAST-MODIFIED:20260112T015030Z
UID:2562-1769245200-1769250600@whamohio.com
SUMMARY:MCFAN Meeting
DESCRIPTION:
URL:https://whamohio.com/event/mcfan-meeting/
LOCATION:Thirsty Cowboys\, 2743 Medina Rd\,\, OH\, Medina\, Ohio\, 44256\, United States
ATTACH;FMTTYPE=image/png:https://whamohio.com/wp-content/uploads/2026/01/image_2026-01-11_205008908.png
ORGANIZER;CN="MCFAN - Medina County Friends and Neighbors":MAILTO:lisawoods@mcfan.org
END:VEVENT
BEGIN:VEVENT
DTSTART;TZID=America/New_York:20260124T090000
DTEND;TZID=America/New_York:20260124T103000
DTSTAMP:20260425T113548
CREATED:20260112T015030Z
LAST-MODIFIED:20260112T015030Z
UID:2562-1769245200-1769250600@whamohio.com
SUMMARY:MCFAN Meeting
DESCRIPTION:
URL:https://whamohio.com/event/mcfan-meeting/
LOCATION:Thirsty Cowboys\, 2743 Medina Rd\,\, OH\, Medina\, Ohio\, 44256\, United States
ATTACH;FMTTYPE=image/png:https://whamohio.com/wp-content/uploads/2026/01/image_2026-01-11_205008908.png
ORGANIZER;CN="MCFAN - Medina County Friends and Neighbors":MAILTO:lisawoods@mcfan.org
END:VEVENT
BEGIN:VEVENT
DTSTART;TZID=America/New_York:20260124T090000
DTEND;TZID=America/New_York:20260124T103000
DTSTAMP:20260425T113548
CREATED:20260112T015030Z
LAST-MODIFIED:20260112T015030Z
UID:2562-1769245200-1769250600@whamohio.com
SUMMARY:MCFAN Meeting
DESCRIPTION:
URL:https://whamohio.com/event/mcfan-meeting/
LOCATION:Thirsty Cowboys\, 2743 Medina Rd\,\, OH\, Medina\, Ohio\, 44256\, United States
ATTACH;FMTTYPE=image/png:https://whamohio.com/wp-content/uploads/2026/01/image_2026-01-11_205008908.png
ORGANIZER;CN="MCFAN - Medina County Friends and Neighbors":MAILTO:lisawoods@mcfan.org
END:VEVENT
BEGIN:VEVENT
DTSTART;TZID=America/New_York:20260124T090000
DTEND;TZID=America/New_York:20260124T103000
DTSTAMP:20260425T113548
CREATED:20260112T015030Z
LAST-MODIFIED:20260112T015030Z
UID:2562-1769245200-1769250600@whamohio.com
SUMMARY:MCFAN Meeting
DESCRIPTION:
URL:https://whamohio.com/event/mcfan-meeting/
LOCATION:Thirsty Cowboys\, 2743 Medina Rd\,\, OH\, Medina\, Ohio\, 44256\, United States
ATTACH;FMTTYPE=image/png:https://whamohio.com/wp-content/uploads/2026/01/image_2026-01-11_205008908.png
ORGANIZER;CN="MCFAN - Medina County Friends and Neighbors":MAILTO:lisawoods@mcfan.org
END:VEVENT
BEGIN:VEVENT
DTSTART;TZID=America/New_York:20260124T090000
DTEND;TZID=America/New_York:20260124T103000
DTSTAMP:20260425T113548
CREATED:20260112T015030Z
LAST-MODIFIED:20260112T015030Z
UID:2562-1769245200-1769250600@whamohio.com
SUMMARY:MCFAN Meeting
DESCRIPTION:
URL:https://whamohio.com/event/mcfan-meeting/
LOCATION:Thirsty Cowboys\, 2743 Medina Rd\,\, OH\, Medina\, Ohio\, 44256\, United States
ATTACH;FMTTYPE=image/png:https://whamohio.com/wp-content/uploads/2026/01/image_2026-01-11_205008908.png
ORGANIZER;CN="MCFAN - Medina County Friends and Neighbors":MAILTO:lisawoods@mcfan.org
END:VEVENT
BEGIN:VEVENT
DTSTART;TZID=America/New_York:20260124T090000
DTEND;TZID=America/New_York:20260124T103000
DTSTAMP:20260425T113548
CREATED:20260112T015030Z
LAST-MODIFIED:20260112T015030Z
UID:2562-1769245200-1769250600@whamohio.com
SUMMARY:MCFAN Meeting
DESCRIPTION:
URL:https://whamohio.com/event/mcfan-meeting/
LOCATION:Thirsty Cowboys\, 2743 Medina Rd\,\, OH\, Medina\, Ohio\, 44256\, United States
ATTACH;FMTTYPE=image/png:https://whamohio.com/wp-content/uploads/2026/01/image_2026-01-11_205008908.png
ORGANIZER;CN="MCFAN - Medina County Friends and Neighbors":MAILTO:lisawoods@mcfan.org
END:VEVENT
BEGIN:VEVENT
DTSTART;TZID=America/New_York:20260124T090000
DTEND;TZID=America/New_York:20260124T103000
DTSTAMP:20260425T113548
CREATED:20260112T015030Z
LAST-MODIFIED:20260112T015030Z
UID:2562-1769245200-1769250600@whamohio.com
SUMMARY:MCFAN Meeting
DESCRIPTION:
URL:https://whamohio.com/event/mcfan-meeting/
LOCATION:Thirsty Cowboys\, 2743 Medina Rd\,\, OH\, Medina\, Ohio\, 44256\, United States
ATTACH;FMTTYPE=image/png:https://whamohio.com/wp-content/uploads/2026/01/image_2026-01-11_205008908.png
ORGANIZER;CN="MCFAN - Medina County Friends and Neighbors":MAILTO:lisawoods@mcfan.org
END:VEVENT
BEGIN:VEVENT
DTSTART;TZID=America/New_York:20260124T090000
DTEND;TZID=America/New_York:20260124T103000
DTSTAMP:20260425T113548
CREATED:20260112T015030Z
LAST-MODIFIED:20260112T015030Z
UID:2562-1769245200-1769250600@whamohio.com
SUMMARY:MCFAN Meeting
DESCRIPTION:
URL:https://whamohio.com/event/mcfan-meeting/
LOCATION:Thirsty Cowboys\, 2743 Medina Rd\,\, OH\, Medina\, Ohio\, 44256\, United States
ATTACH;FMTTYPE=image/png:https://whamohio.com/wp-content/uploads/2026/01/image_2026-01-11_205008908.png
ORGANIZER;CN="MCFAN - Medina County Friends and Neighbors":MAILTO:lisawoods@mcfan.org
END:VEVENT
BEGIN:VEVENT
DTSTART;TZID=America/New_York:20260124T090000
DTEND;TZID=America/New_York:20260124T103000
DTSTAMP:20260425T113548
CREATED:20260112T015030Z
LAST-MODIFIED:20260112T015030Z
UID:2562-1769245200-1769250600@whamohio.com
SUMMARY:MCFAN Meeting
DESCRIPTION:
URL:https://whamohio.com/event/mcfan-meeting/
LOCATION:Thirsty Cowboys\, 2743 Medina Rd\,\, OH\, Medina\, Ohio\, 44256\, United States
ATTACH;FMTTYPE=image/png:https://whamohio.com/wp-content/uploads/2026/01/image_2026-01-11_205008908.png
ORGANIZER;CN="MCFAN - Medina County Friends and Neighbors":MAILTO:lisawoods@mcfan.org
END:VEVENT
BEGIN:VEVENT
DTSTART;TZID=America/New_York:20260124T090000
DTEND;TZID=America/New_York:20260124T103000
DTSTAMP:20260425T113548
CREATED:20260112T015030Z
LAST-MODIFIED:20260112T015030Z
UID:2562-1769245200-1769250600@whamohio.com
SUMMARY:MCFAN Meeting
DESCRIPTION:
URL:https://whamohio.com/event/mcfan-meeting/
LOCATION:Thirsty Cowboys\, 2743 Medina Rd\,\, OH\, Medina\, Ohio\, 44256\, United States
ATTACH;FMTTYPE=image/png:https://whamohio.com/wp-content/uploads/2026/01/image_2026-01-11_205008908.png
ORGANIZER;CN="MCFAN - Medina County Friends and Neighbors":MAILTO:lisawoods@mcfan.org
END:VEVENT
BEGIN:VEVENT
DTSTART;TZID=America/New_York:20260124T090000
DTEND;TZID=America/New_York:20260124T103000
DTSTAMP:20260425T113548
CREATED:20260112T015030Z
LAST-MODIFIED:20260112T015030Z
UID:2562-1769245200-1769250600@whamohio.com
SUMMARY:MCFAN Meeting
DESCRIPTION:
URL:https://whamohio.com/event/mcfan-meeting/
LOCATION:Thirsty Cowboys\, 2743 Medina Rd\,\, OH\, Medina\, Ohio\, 44256\, United States
ATTACH;FMTTYPE=image/png:https://whamohio.com/wp-content/uploads/2026/01/image_2026-01-11_205008908.png
ORGANIZER;CN="MCFAN - Medina County Friends and Neighbors":MAILTO:lisawoods@mcfan.org
END:VEVENT
BEGIN:VEVENT
DTSTART;TZID=America/New_York:20260124T090000
DTEND;TZID=America/New_York:20260124T103000
DTSTAMP:20260425T113548
CREATED:20260112T015030Z
LAST-MODIFIED:20260112T015030Z
UID:2562-1769245200-1769250600@whamohio.com
SUMMARY:MCFAN Meeting
DESCRIPTION:
URL:https://whamohio.com/event/mcfan-meeting/
LOCATION:Thirsty Cowboys\, 2743 Medina Rd\,\, OH\, Medina\, Ohio\, 44256\, United States
ATTACH;FMTTYPE=image/png:https://whamohio.com/wp-content/uploads/2026/01/image_2026-01-11_205008908.png
ORGANIZER;CN="MCFAN - Medina County Friends and Neighbors":MAILTO:lisawoods@mcfan.org
END:VEVENT
BEGIN:VEVENT
DTSTART;TZID=America/New_York:20260124T090000
DTEND;TZID=America/New_York:20260124T103000
DTSTAMP:20260425T113548
CREATED:20260112T015030Z
LAST-MODIFIED:20260112T015030Z
UID:2562-1769245200-1769250600@whamohio.com
SUMMARY:MCFAN Meeting
DESCRIPTION:
URL:https://whamohio.com/event/mcfan-meeting/
LOCATION:Thirsty Cowboys\, 2743 Medina Rd\,\, OH\, Medina\, Ohio\, 44256\, United States
ATTACH;FMTTYPE=image/png:https://whamohio.com/wp-content/uploads/2026/01/image_2026-01-11_205008908.png
ORGANIZER;CN="MCFAN - Medina County Friends and Neighbors":MAILTO:lisawoods@mcfan.org
END:VEVENT
BEGIN:VEVENT
DTSTART;TZID=America/New_York:20260124T090000
DTEND;TZID=America/New_York:20260124T103000
DTSTAMP:20260425T113548
CREATED:20260112T015030Z
LAST-MODIFIED:20260112T015030Z
UID:2562-1769245200-1769250600@whamohio.com
SUMMARY:MCFAN Meeting
DESCRIPTION:
URL:https://whamohio.com/event/mcfan-meeting/
LOCATION:Thirsty Cowboys\, 2743 Medina Rd\,\, OH\, Medina\, Ohio\, 44256\, United States
ATTACH;FMTTYPE=image/png:https://whamohio.com/wp-content/uploads/2026/01/image_2026-01-11_205008908.png
ORGANIZER;CN="MCFAN - Medina County Friends and Neighbors":MAILTO:lisawoods@mcfan.org
END:VEVENT
BEGIN:VEVENT
DTSTART;TZID=America/New_York:20260124T090000
DTEND;TZID=America/New_York:20260124T103000
DTSTAMP:20260425T113548
CREATED:20260112T015030Z
LAST-MODIFIED:20260112T015030Z
UID:2562-1769245200-1769250600@whamohio.com
SUMMARY:MCFAN Meeting
DESCRIPTION:
URL:https://whamohio.com/event/mcfan-meeting/
LOCATION:Thirsty Cowboys\, 2743 Medina Rd\,\, OH\, Medina\, Ohio\, 44256\, United States
ATTACH;FMTTYPE=image/png:https://whamohio.com/wp-content/uploads/2026/01/image_2026-01-11_205008908.png
ORGANIZER;CN="MCFAN - Medina County Friends and Neighbors":MAILTO:lisawoods@mcfan.org
END:VEVENT
BEGIN:VEVENT
DTSTART;TZID=America/New_York:20260124T090000
DTEND;TZID=America/New_York:20260124T103000
DTSTAMP:20260425T113548
CREATED:20260112T015030Z
LAST-MODIFIED:20260112T015030Z
UID:2562-1769245200-1769250600@whamohio.com
SUMMARY:MCFAN Meeting
DESCRIPTION:
URL:https://whamohio.com/event/mcfan-meeting/
LOCATION:Thirsty Cowboys\, 2743 Medina Rd\,\, OH\, Medina\, Ohio\, 44256\, United States
ATTACH;FMTTYPE=image/png:https://whamohio.com/wp-content/uploads/2026/01/image_2026-01-11_205008908.png
ORGANIZER;CN="MCFAN - Medina County Friends and Neighbors":MAILTO:lisawoods@mcfan.org
END:VEVENT
BEGIN:VEVENT
DTSTART;TZID=America/New_York:20260124T090000
DTEND;TZID=America/New_York:20260124T103000
DTSTAMP:20260425T113548
CREATED:20260112T015030Z
LAST-MODIFIED:20260112T015030Z
UID:2562-1769245200-1769250600@whamohio.com
SUMMARY:MCFAN Meeting
DESCRIPTION:
URL:https://whamohio.com/event/mcfan-meeting/
LOCATION:Thirsty Cowboys\, 2743 Medina Rd\,\, OH\, Medina\, Ohio\, 44256\, United States
ATTACH;FMTTYPE=image/png:https://whamohio.com/wp-content/uploads/2026/01/image_2026-01-11_205008908.png
ORGANIZER;CN="MCFAN - Medina County Friends and Neighbors":MAILTO:lisawoods@mcfan.org
END:VEVENT
BEGIN:VEVENT
DTSTART;TZID=America/New_York:20260124T090000
DTEND;TZID=America/New_York:20260124T103000
DTSTAMP:20260425T113548
CREATED:20260112T015030Z
LAST-MODIFIED:20260112T015030Z
UID:2562-1769245200-1769250600@whamohio.com
SUMMARY:MCFAN Meeting
DESCRIPTION:
URL:https://whamohio.com/event/mcfan-meeting/
LOCATION:Thirsty Cowboys\, 2743 Medina Rd\,\, OH\, Medina\, Ohio\, 44256\, United States
ATTACH;FMTTYPE=image/png:https://whamohio.com/wp-content/uploads/2026/01/image_2026-01-11_205008908.png
ORGANIZER;CN="MCFAN - Medina County Friends and Neighbors":MAILTO:lisawoods@mcfan.org
END:VEVENT
BEGIN:VEVENT
DTSTART;TZID=America/New_York:20260124T090000
DTEND;TZID=America/New_York:20260124T103000
DTSTAMP:20260425T113548
CREATED:20260112T015030Z
LAST-MODIFIED:20260112T015030Z
UID:2562-1769245200-1769250600@whamohio.com
SUMMARY:MCFAN Meeting
DESCRIPTION:
URL:https://whamohio.com/event/mcfan-meeting/
LOCATION:Thirsty Cowboys\, 2743 Medina Rd\,\, OH\, Medina\, Ohio\, 44256\, United States
ATTACH;FMTTYPE=image/png:https://whamohio.com/wp-content/uploads/2026/01/image_2026-01-11_205008908.png
ORGANIZER;CN="MCFAN - Medina County Friends and Neighbors":MAILTO:lisawoods@mcfan.org
END:VEVENT
BEGIN:VEVENT
DTSTART;TZID=America/New_York:20260124T090000
DTEND;TZID=America/New_York:20260124T103000
DTSTAMP:20260425T113548
CREATED:20260112T015030Z
LAST-MODIFIED:20260112T015030Z
UID:2562-1769245200-1769250600@whamohio.com
SUMMARY:MCFAN Meeting
DESCRIPTION:
URL:https://whamohio.com/event/mcfan-meeting/
LOCATION:Thirsty Cowboys\, 2743 Medina Rd\,\, OH\, Medina\, Ohio\, 44256\, United States
ATTACH;FMTTYPE=image/png:https://whamohio.com/wp-content/uploads/2026/01/image_2026-01-11_205008908.png
ORGANIZER;CN="MCFAN - Medina County Friends and Neighbors":MAILTO:lisawoods@mcfan.org
END:VEVENT
BEGIN:VEVENT
DTSTART;TZID=America/New_York:20260124T090000
DTEND;TZID=America/New_York:20260124T103000
DTSTAMP:20260425T113548
CREATED:20260112T015030Z
LAST-MODIFIED:20260112T015030Z
UID:2562-1769245200-1769250600@whamohio.com
SUMMARY:MCFAN Meeting
DESCRIPTION:
URL:https://whamohio.com/event/mcfan-meeting/
LOCATION:Thirsty Cowboys\, 2743 Medina Rd\,\, OH\, Medina\, Ohio\, 44256\, United States
ATTACH;FMTTYPE=image/png:https://whamohio.com/wp-content/uploads/2026/01/image_2026-01-11_205008908.png
ORGANIZER;CN="MCFAN - Medina County Friends and Neighbors":MAILTO:lisawoods@mcfan.org
END:VEVENT
BEGIN:VEVENT
DTSTART;TZID=America/New_York:20260124T090000
DTEND;TZID=America/New_York:20260124T103000
DTSTAMP:20260425T113548
CREATED:20260112T015030Z
LAST-MODIFIED:20260112T015030Z
UID:2562-1769245200-1769250600@whamohio.com
SUMMARY:MCFAN Meeting
DESCRIPTION:
URL:https://whamohio.com/event/mcfan-meeting/
LOCATION:Thirsty Cowboys\, 2743 Medina Rd\,\, OH\, Medina\, Ohio\, 44256\, United States
ATTACH;FMTTYPE=image/png:https://whamohio.com/wp-content/uploads/2026/01/image_2026-01-11_205008908.png
ORGANIZER;CN="MCFAN - Medina County Friends and Neighbors":MAILTO:lisawoods@mcfan.org
END:VEVENT
BEGIN:VEVENT
DTSTART;TZID=America/New_York:20260124T090000
DTEND;TZID=America/New_York:20260124T103000
DTSTAMP:20260425T113548
CREATED:20260112T015030Z
LAST-MODIFIED:20260112T015030Z
UID:2562-1769245200-1769250600@whamohio.com
SUMMARY:MCFAN Meeting
DESCRIPTION:
URL:https://whamohio.com/event/mcfan-meeting/
LOCATION:Thirsty Cowboys\, 2743 Medina Rd\,\, OH\, Medina\, Ohio\, 44256\, United States
ATTACH;FMTTYPE=image/png:https://whamohio.com/wp-content/uploads/2026/01/image_2026-01-11_205008908.png
ORGANIZER;CN="MCFAN - Medina County Friends and Neighbors":MAILTO:lisawoods@mcfan.org
END:VEVENT
BEGIN:VEVENT
DTSTART;TZID=America/New_York:20260124T090000
DTEND;TZID=America/New_York:20260124T103000
DTSTAMP:20260425T113548
CREATED:20260112T015030Z
LAST-MODIFIED:20260112T015030Z
UID:2562-1769245200-1769250600@whamohio.com
SUMMARY:MCFAN Meeting
DESCRIPTION:
URL:https://whamohio.com/event/mcfan-meeting/
LOCATION:Thirsty Cowboys\, 2743 Medina Rd\,\, OH\, Medina\, Ohio\, 44256\, United States
ATTACH;FMTTYPE=image/png:https://whamohio.com/wp-content/uploads/2026/01/image_2026-01-11_205008908.png
ORGANIZER;CN="MCFAN - Medina County Friends and Neighbors":MAILTO:lisawoods@mcfan.org
END:VEVENT
BEGIN:VEVENT
DTSTART;TZID=America/New_York:20260124T090000
DTEND;TZID=America/New_York:20260124T103000
DTSTAMP:20260425T113548
CREATED:20260112T015030Z
LAST-MODIFIED:20260112T015030Z
UID:2562-1769245200-1769250600@whamohio.com
SUMMARY:MCFAN Meeting
DESCRIPTION:
URL:https://whamohio.com/event/mcfan-meeting/
LOCATION:Thirsty Cowboys\, 2743 Medina Rd\,\, OH\, Medina\, Ohio\, 44256\, United States
ATTACH;FMTTYPE=image/png:https://whamohio.com/wp-content/uploads/2026/01/image_2026-01-11_205008908.png
ORGANIZER;CN="MCFAN - Medina County Friends and Neighbors":MAILTO:lisawoods@mcfan.org
END:VEVENT
BEGIN:VEVENT
DTSTART;TZID=America/New_York:20260124T090000
DTEND;TZID=America/New_York:20260124T103000
DTSTAMP:20260425T113548
CREATED:20260112T015030Z
LAST-MODIFIED:20260112T015030Z
UID:2562-1769245200-1769250600@whamohio.com
SUMMARY:MCFAN Meeting
DESCRIPTION:
URL:https://whamohio.com/event/mcfan-meeting/
LOCATION:Thirsty Cowboys\, 2743 Medina Rd\,\, OH\, Medina\, Ohio\, 44256\, United States
ATTACH;FMTTYPE=image/png:https://whamohio.com/wp-content/uploads/2026/01/image_2026-01-11_205008908.png
ORGANIZER;CN="MCFAN - Medina County Friends and Neighbors":MAILTO:lisawoods@mcfan.org
END:VEVENT
END:VCALENDAR